BEGIN:VCALENDAR
VERSION:2.0
PRODID:-//Integrated Services Network - ECPv6.15.20//NONSGML v1.0//EN
CALSCALE:GREGORIAN
METHOD:PUBLISH
X-ORIGINAL-URL:https://goisn.org
X-WR-CALDESC:Events for Integrated Services Network
REFRESH-INTERVAL;VALUE=DURATION:PT1H
X-Robots-Tag:noindex
X-PUBLISHED-TTL:PT1H
BEGIN:VTIMEZONE
TZID:America/Los_Angeles
BEGIN:DAYLIGHT
TZOFFSETFROM:-0800
TZOFFSETTO:-0700
TZNAME:PDT
DTSTART:20240310T100000
END:DAYLIGHT
BEGIN:STANDARD
TZOFFSETFROM:-0700
TZOFFSETTO:-0800
TZNAME:PST
DTSTART:20241103T090000
END:STANDARD
BEGIN:DAYLIGHT
TZOFFSETFROM:-0800
TZOFFSETTO:-0700
TZNAME:PDT
DTSTART:20250309T100000
END:DAYLIGHT
BEGIN:STANDARD
TZOFFSETFROM:-0700
TZOFFSETTO:-0800
TZNAME:PST
DTSTART:20251102T090000
END:STANDARD
BEGIN:DAYLIGHT
TZOFFSETFROM:-0800
TZOFFSETTO:-0700
TZNAME:PDT
DTSTART:20260308T100000
END:DAYLIGHT
BEGIN:STANDARD
TZOFFSETFROM:-0700
TZOFFSETTO:-0800
TZNAME:PST
DTSTART:20261101T090000
END:STANDARD
END:VTIMEZONE
BEGIN:VEVENT
DTSTART;TZID=America/Los_Angeles:20250403T160000
DTEND;TZID=America/Los_Angeles:20250403T180000
DTSTAMP:20260421T065613
CREATED:20241219T173732Z
LAST-MODIFIED:20250509T225823Z
UID:1255-1743696000-1743703200@goisn.org
SUMMARY:Yamhill County Community Resource Fair
DESCRIPTION:Yamhill County Community Resource Fair for individuals experiencing intellectual/developmental disabilities. Adults and students of all ages are welcome. Come learn about resources for a variety of things including employment services\, case management\, mental health\, transportation\, and community inclusion. This event is free. There will be snacks\, swag\, and prizes!
URL:https://goisn.org/event/yamhill-county-community-resource-fair/
LOCATION:McMinnville High School Cafeteria\, 615 NE 15th ST\, McMinnville\, OR\, United States
CATEGORIES:Resource Fair,Yamhill
END:VEVENT
END:VCALENDAR