BEGIN:VCALENDAR
VERSION:2.0
PRODID:-//Integrated Services Network - ECPv6.15.20//NONSGML v1.0//EN
CALSCALE:GREGORIAN
METHOD:PUBLISH
X-WR-CALNAME:Integrated Services Network
X-ORIGINAL-URL:https://goisn.org
X-WR-CALDESC:Events for Integrated Services Network
REFRESH-INTERVAL;VALUE=DURATION:PT1H
X-Robots-Tag:noindex
X-PUBLISHED-TTL:PT1H
BEGIN:VTIMEZONE
TZID:America/Los_Angeles
BEGIN:DAYLIGHT
TZOFFSETFROM:-0800
TZOFFSETTO:-0700
TZNAME:PDT
DTSTART:20240310T100000
END:DAYLIGHT
BEGIN:STANDARD
TZOFFSETFROM:-0700
TZOFFSETTO:-0800
TZNAME:PST
DTSTART:20241103T090000
END:STANDARD
BEGIN:DAYLIGHT
TZOFFSETFROM:-0800
TZOFFSETTO:-0700
TZNAME:PDT
DTSTART:20250309T100000
END:DAYLIGHT
BEGIN:STANDARD
TZOFFSETFROM:-0700
TZOFFSETTO:-0800
TZNAME:PST
DTSTART:20251102T090000
END:STANDARD
BEGIN:DAYLIGHT
TZOFFSETFROM:-0800
TZOFFSETTO:-0700
TZNAME:PDT
DTSTART:20260308T100000
END:DAYLIGHT
BEGIN:STANDARD
TZOFFSETFROM:-0700
TZOFFSETTO:-0800
TZNAME:PST
DTSTART:20261101T090000
END:STANDARD
BEGIN:DAYLIGHT
TZOFFSETFROM:-0800
TZOFFSETTO:-0700
TZNAME:PDT
DTSTART:20270314T100000
END:DAYLIGHT
BEGIN:STANDARD
TZOFFSETFROM:-0700
TZOFFSETTO:-0800
TZNAME:PST
DTSTART:20271107T090000
END:STANDARD
END:VTIMEZONE
BEGIN:VEVENT
DTSTART;TZID=America/Los_Angeles:20250922T110000
DTEND;TZID=America/Los_Angeles:20250922T180000
DTSTAMP:20260421T074110
CREATED:20250509T153525Z
LAST-MODIFIED:20250530T144936Z
UID:1897-1758538800-1758564000@goisn.org
SUMMARY:Inclusive Leadership Summit (Salem)
DESCRIPTION:2025 Inclusive Leadership Summit\nBringing together Oregon’s self-advocates\, family members\, professionals\, and legislators to learn\, celebrate\, and collaborate.\nLunch and dinner are included. Registration is open! \nRegister at: https://2025ILS.eventbrite.com \nEmail eventadmin@askosac.org to: \n\nRequest to be an exhibitor or complete the presenter application\nrequest hotel room assistance for self-advocates\nrequest assistance to register\nask any questions\n\n2025 Cumbre de Liderazgo Inclusiva\n¡Reuniendo a los autogestores\, familiares\, profesionales y legisladores de Oregon para aprender\, celebrar y colaborar!\nEl almuerzo y la cena están incluidos. \nEnlace para inscribirse: https://CLI2025.eventbrite.com \nComuníquese a eventadmin@askosac.org o llame al 971-200-0706 para: \n\nSolicitud de expositor | Solicitud de presentador (entregarse a más tardar el 12 de agosto)\nAsistencia para habitaciones de hotel para los autogestores\nApoyo para inscribirse\nHacer preguntas\n\n 
URL:https://goisn.org/event/inclusive-leadership-summit/
LOCATION:Salem Convention Center\, 200 Commercial St. SE\, Salem\, OR\, 97301\, United States
CATEGORIES:Marion,Self Advocacy
END:VEVENT
BEGIN:VEVENT
DTSTART;TZID=America/Los_Angeles:20250924T173000
DTEND;TZID=America/Los_Angeles:20250924T193000
DTSTAMP:20260421T074110
CREATED:20250723T172333Z
LAST-MODIFIED:20250723T172333Z
UID:2514-1758735000-1758742200@goisn.org
SUMMARY:SPARC Monthly Meeting (Monmouth and Virtual)
DESCRIPTION:SPARC is a self-advocacy group\, with a branch in Monmouth. Everyone is welcome to join! This group meets monthly to hold a potluck and meeting. Each meeting has a different topic\, this month will be about universal accessibility! \nPotluck: 5:30pm – 6:30pm\nMeeting: 6:30pm – 7:30pm \nYou can join in person or virtually.\nIn person: PCL Administrative Office\nVirtually via this link!
URL:https://goisn.org/event/sparc-monthly-meeting-monmouth-and-virtual-4/
LOCATION:PCL Administrative Office\, 480 Main St. East\, Monmouth\, OR\, 97361\, United States
CATEGORIES:Polk,Self Advocacy,Virtual
END:VEVENT
BEGIN:VEVENT
DTSTART;TZID=America/Los_Angeles:20251021T133000
DTEND;TZID=America/Los_Angeles:20251021T143000
DTSTAMP:20260421T074110
CREATED:20251014T180321Z
LAST-MODIFIED:20251014T180452Z
UID:2895-1761053400-1761057000@goisn.org
SUMMARY:Coastal Self-Advocacy Group Monthly Meeting (Virtual)
DESCRIPTION:Join the Coastal Self-Advocacy group for their monthly zoom meet-up! Every 3rd Tuesday of the Month from 1:30pm – 2:30 pm. This is open to individuals and families with I/DD. \nRegister by clicking here.
URL:https://goisn.org/event/coastal-self-advocacy-group-monthly-meeting-virtual/
LOCATION:Virtual
CATEGORIES:Clatsop,Lincoln,Self Advocacy,Tillamook,Virtual
END:VEVENT
BEGIN:VEVENT
DTSTART;TZID=America/Los_Angeles:20251021T153000
DTEND;TZID=America/Los_Angeles:20251021T163000
DTSTAMP:20260421T074110
CREATED:20251001T213659Z
LAST-MODIFIED:20251001T213659Z
UID:2828-1761060600-1761064200@goisn.org
SUMMARY:SPARC Fall Party (St. Helens)
DESCRIPTION:Monthly SPARC meetings are a wonderful way for individuals with Intellectual and Developmental Disabilities (IDD) to engage and connect with one another. Each month\, the meetings are centered around a different theme\, keeping the experience fresh and exciting. \nThis month will be a fall party! There will be pumpkin painting and sharing treats (or tricks) with friends. \nRSVP and learn more by clicking here.
URL:https://goisn.org/event/sparc-fall-party-st-helens/
LOCATION:St. Helens Community Center\, 2625 Gable Rd.\, St. Helens\, OR\, 97051\, United States
CATEGORIES:Columbia,Self Advocacy
END:VEVENT
BEGIN:VEVENT
DTSTART;TZID=America/Los_Angeles:20251022T173000
DTEND;TZID=America/Los_Angeles:20251022T193000
DTSTAMP:20260421T074110
CREATED:20250930T153451Z
LAST-MODIFIED:20250930T153606Z
UID:2811-1761154200-1761161400@goisn.org
SUMMARY:SPARC Halloween Karaoke Party (Monmouth)
DESCRIPTION:Join SPARC for the monthly meeting and potluck. This month will be a Halloween Karaoke Party! Costumes are welcome! \nSPARC is a self-advocacy group facilitated by Parnterships in Community Living\, Inc. (PCL). \nStay up-to-date at facebook.com/pclSPARC
URL:https://goisn.org/event/sparc-halloween-karaoke-party-monmouth/
LOCATION:PCL Administrative Office\, 480 Main St. East\, Monmouth\, OR\, 97361\, United States
CATEGORIES:Polk,Self Advocacy
END:VEVENT
BEGIN:VEVENT
DTSTART;TZID=America/Los_Angeles:20251106T100000
DTEND;TZID=America/Los_Angeles:20251106T120000
DTSTAMP:20260421T074110
CREATED:20250929T222746Z
LAST-MODIFIED:20250930T180721Z
UID:2749-1762423200-1762430400@goisn.org
SUMMARY:Policy Oversight Group (POG) Meeting
DESCRIPTION:Join us for our Policy Oversight Group meeting! This group is made up of self-advocates and helps guide ISN services across all counties we serve. \nNovember 6\, 10am – 12pm\, ISN Polk County Office\, Monmouth\, OR \nFor more information\, visit: Policy Oversight Group | Integrated Services Network
URL:https://goisn.org/event/policy-oversight-group-pog-meeting-3/
LOCATION:ISN Polk Office\, 238 Jackson ST E\, Monmouth\, OR\, 97361
CATEGORIES:ISN Sponsored Event,Self Advocacy
END:VEVENT
BEGIN:VEVENT
DTSTART;TZID=America/Los_Angeles:20251118T133000
DTEND;TZID=America/Los_Angeles:20251118T143000
DTSTAMP:20260421T074110
CREATED:20251014T180421Z
LAST-MODIFIED:20251014T180421Z
UID:2897-1763472600-1763476200@goisn.org
SUMMARY:Coastal Self-Advocacy Group Monthly Meeting (Virtual)
DESCRIPTION:Join the Coastal Self-Advocacy group for their monthly zoom meet-up! Every 3rd Tuesday of the Month from 1:30pm – 2:30 pm. This is open to individuals and families with I/DD. \nRegister by clicking here.
URL:https://goisn.org/event/coastal-self-advocacy-group-monthly-meeting-virtual-2/
LOCATION:Virtual
CATEGORIES:Clatsop,Lincoln,Self Advocacy,Tillamook,Virtual
END:VEVENT
BEGIN:VEVENT
DTSTART;TZID=America/Los_Angeles:20251118T153000
DTEND;TZID=America/Los_Angeles:20251118T163000
DTSTAMP:20260421T074110
CREATED:20251010T162932Z
LAST-MODIFIED:20251010T162932Z
UID:2878-1763479800-1763483400@goisn.org
SUMMARY:SPARC Monthly Meeting (St. Helens)
DESCRIPTION:Monthly SPARC meetings are a wonderful way for individuals with Intellectual and Developmental Disabilities (IDD) to engage and connect with one another. Each month\, the meetings are centered around a different theme\, keeping the experience fresh and exciting. \nVisit the website by clicking here to find this months theme and register! \nThe core of these meetings is to foster a sense of community. By bringing people together regularly\, SPARC helps to combat social isolation\, which can be a significant challenge for many individuals with IDD. The themed activities—whether it’s a craft night\, a talent show\, or a game day—provide a natural and enjoyable way for friendships to blossom. Participants can discover shared hobbies\, laugh together\, and support one another in a safe and welcoming environment. \nUltimately\, these monthly SPARC meetings are more than just events; they are vital opportunities for growth and connection. They celebrate the unique contributions of each individual\, empowering them to build meaningful relationships and feel a deeper sense of belonging. The changing themes ensure that the program remains dynamic\, consistently offering new avenues for fun\, learning\, and genuine human connection.
URL:https://goisn.org/event/sparc-monthly-meeting-st-helens/
LOCATION:St. Helens Community Center\, 2625 Gable Rd.\, St. Helens\, OR\, 97051\, United States
CATEGORIES:Columbia,Self Advocacy
END:VEVENT
BEGIN:VEVENT
DTSTART;TZID=America/Los_Angeles:20251216T153000
DTEND;TZID=America/Los_Angeles:20251216T163000
DTSTAMP:20260421T074110
CREATED:20251010T163049Z
LAST-MODIFIED:20251010T163049Z
UID:2880-1765899000-1765902600@goisn.org
SUMMARY:SPARC Monthly Meeting (St. Helens)
DESCRIPTION:Monthly SPARC meetings are a wonderful way for individuals with Intellectual and Developmental Disabilities (IDD) to engage and connect with one another. Each month\, the meetings are centered around a different theme\, keeping the experience fresh and exciting. \nVisit the website by clicking here to find this months theme and register! \nThe core of these meetings is to foster a sense of community. By bringing people together regularly\, SPARC helps to combat social isolation\, which can be a significant challenge for many individuals with IDD. The themed activities—whether it’s a craft night\, a talent show\, or a game day—provide a natural and enjoyable way for friendships to blossom. Participants can discover shared hobbies\, laugh together\, and support one another in a safe and welcoming environment. \nUltimately\, these monthly SPARC meetings are more than just events; they are vital opportunities for growth and connection. They celebrate the unique contributions of each individual\, empowering them to build meaningful relationships and feel a deeper sense of belonging. The changing themes ensure that the program remains dynamic\, consistently offering new avenues for fun\, learning\, and genuine human connection.
URL:https://goisn.org/event/sparc-monthly-meeting-st-helens-2/
LOCATION:St. Helens Community Center\, 2625 Gable Rd.\, St. Helens\, OR\, 97051\, United States
CATEGORIES:Columbia,Self Advocacy
END:VEVENT
BEGIN:VEVENT
DTSTART;TZID=America/Los_Angeles:20260115T150000
DTEND;TZID=America/Los_Angeles:20260115T170000
DTSTAMP:20260421T074110
CREATED:20251217T195026Z
LAST-MODIFIED:20251217T195108Z
UID:2974-1768489200-1768496400@goisn.org
SUMMARY:Advocacy in Action (Salem)
DESCRIPTION: 
URL:https://goisn.org/event/advocacy-in-action-salem/
LOCATION:Seymour Center\, 3745 Portland Rd. NE STE 130\, Salem\, OR\, 97301\, United States
CATEGORIES:ISN Sponsored Event,Marion,Self Advocacy
END:VEVENT
BEGIN:VEVENT
DTSTART;TZID=America/Los_Angeles:20260120T133000
DTEND;TZID=America/Los_Angeles:20260120T143000
DTSTAMP:20260421T074110
CREATED:20260107T215620Z
LAST-MODIFIED:20260107T215620Z
UID:3132-1768915800-1768919400@goisn.org
SUMMARY:Coastal Self-Advocacy Zoom Meeting (Virtual)
DESCRIPTION:Sammy’s Place and The Arc of Lincoln County host the Coastal Self-Advocacy Zoom Meeting Every 3rd Tuesday of the month from 1:30–2:30 PM \nA monthly Zoom meeting for individuals with intellectual and developmental disabilities (IDD) and their families to build self-advocacy skills\, confidence\, and connection. Parents/guardians must attend with children ages 13 and under. Registration required. Register at https://forms.gle/kJDfgQthJRcCCwN1A
URL:https://goisn.org/event/coastal-self-advocacy-zoom-meeting-virtual/
LOCATION:Virtual
CATEGORIES:Clatsop,Community Partner,Lincoln,Self Advocacy,Tillamook,Virtual
END:VEVENT
BEGIN:VEVENT
DTSTART;TZID=America/Los_Angeles:20260225T173000
DTEND;TZID=America/Los_Angeles:20260225T193000
DTSTAMP:20260421T074110
CREATED:20260223T192402Z
LAST-MODIFIED:20260224T170119Z
UID:3389-1772040600-1772047800@goisn.org
SUMMARY:SPARC Meeting (Monmouth)
DESCRIPTION:Join SPARC\, a Self-Advocacy group based out of Monmouth\, on February 25\, for a Meeting & Potluck. The meeting topic will be Video Making! The potluck is at 5:30pm and the meeting will begin at 6:30pm. See flyer attached for more details. \nThere is also an option to join the meeting portion virtually: \n\n🔗 Join via Google Meet:\nhttps://meet.google.com/jtq-uvrc-jxe \n📞 Join by Phone (US):\n+1 352‑537‑8046\nPIN: 859 472 124#
URL:https://goisn.org/event/sparc-meeting-virtual/
LOCATION:PCL Administrative Office\, 480 Main St. East\, Monmouth\, OR\, 97361\, United States
CATEGORIES:Community Partner,Polk,Self Advocacy,Virtual
END:VEVENT
BEGIN:VEVENT
DTSTART;TZID=America/Los_Angeles:20260317T133000
DTEND;TZID=America/Los_Angeles:20260317T143000
DTSTAMP:20260421T074110
CREATED:20260123T190812Z
LAST-MODIFIED:20260306T192208Z
UID:3224-1773754200-1773757800@goisn.org
SUMMARY:Coastal Self-Advocacy Group Monthly Meet-up (Tillamook/Virtual)
DESCRIPTION:Self-Advocacy Meeting Every 3rd Tuesday | 1:30–2:30 PM \nMarch Meeting: St Patrick’s Day – Come wearing green and enjoy some refreshments with other Self-Advocates in the area. A Zoom link is also available for anyone who cannot attend in person. \nA monthly meeting for individuals with intellectual and developmental disabilities (IDD) and their families to build self-advocacy skills\, confidence\, and connection. Parents/guardians must attend with children ages 13 and under. Registration required: Self-Advocacy Zoom
URL:https://goisn.org/event/coastal-self-advocacy-group-monthly-zoom-meet-up-virtual-2/
LOCATION:Virtual
CATEGORIES:Community Partner,Self Advocacy,Tillamook,Virtual
END:VEVENT
BEGIN:VEVENT
DTSTART;TZID=America/Los_Angeles:20260325T173000
DTEND;TZID=America/Los_Angeles:20260325T193000
DTSTAMP:20260421T074110
CREATED:20260227T210440Z
LAST-MODIFIED:20260306T182237Z
UID:3479-1774459800-1774467000@goisn.org
SUMMARY:SPARC Meeting (Monmouth/Virtual)
DESCRIPTION:SPARC – Self Protection\, Advocacy and Rights Council – in Polk County is facilitated by Partnerships in Community Living (Sparc – Partnerships in Community Living of Oregon) and hosts monthly meetings and potlucks every month. A virtual meeting option is available as well. \nSouper Soups Potluck 5:30pm-6:30pm \nMeeting Topic: DD Awareness Month 6:30pm-7:30pm \nSee the attached flyer for additional details.
URL:https://goisn.org/event/sparc-meeting-monmouth-virtual/
LOCATION:PCL Administrative Office\, 480 Main St. East\, Monmouth\, OR\, 97361\, United States
CATEGORIES:Community Partner,Polk,Self Advocacy,Virtual
END:VEVENT
BEGIN:VEVENT
DTSTART;TZID=America/Los_Angeles:20260424T170000
DTEND;TZID=America/Los_Angeles:20260424T180000
DTSTAMP:20260421T074110
CREATED:20260420T163647Z
LAST-MODIFIED:20260420T163647Z
UID:4097-1777050000-1777053600@goisn.org
SUMMARY:People First of Corvallis Pizza Party (Corvallis)
DESCRIPTION:Join People First of Corvallis\, a self-advocacy group\, for a pizza party and meeting. Register for the party here: https://forms.gle/yFveNCdzQ2jqmoxN8 \nThe group meets on the fourth Friday of each month.
URL:https://goisn.org/event/people-first-of-corvallis-pizza-party-corvallis/
LOCATION:Corvallis Community Center\, 2601 NW Tyler Ave\, Corvallis\, OR\, 97330\, United States
CATEGORIES:Benton,Community Partner,Self Advocacy
END:VEVENT
BEGIN:VEVENT
DTSTART;TZID=America/Los_Angeles:20260513T150000
DTEND;TZID=America/Los_Angeles:20260513T163000
DTSTAMP:20260421T074110
CREATED:20260409T173053Z
LAST-MODIFIED:20260409T173053Z
UID:4081-1778684400-1778689800@goisn.org
SUMMARY:SPARC - Lincoln County Self Advocacy Meeting (Lincoln City)
DESCRIPTION:Come for a Meet and Greet with SPARC in Lincoln County. There will be a Snack Potluck\, so bring your favorite snack to share.
URL:https://goisn.org/event/sparc-lincoln-county-self-advocacy-meeting-lincoln-city/
LOCATION:ISN Lincoln Office\, 820 SE Highway 101\, Suite D\, Lincoln City\, OR\, 97367
CATEGORIES:Community Partner,Lincoln,Self Advocacy
END:VEVENT
END:VCALENDAR