BEGIN:VCALENDAR
VERSION:2.0
PRODID:-//Integrated Services Network - ECPv6.15.20//NONSGML v1.0//EN
CALSCALE:GREGORIAN
METHOD:PUBLISH
X-ORIGINAL-URL:https://goisn.org
X-WR-CALDESC:Events for Integrated Services Network
REFRESH-INTERVAL;VALUE=DURATION:PT1H
X-Robots-Tag:noindex
X-PUBLISHED-TTL:PT1H
BEGIN:VTIMEZONE
TZID:America/Los_Angeles
BEGIN:DAYLIGHT
TZOFFSETFROM:-0800
TZOFFSETTO:-0700
TZNAME:PDT
DTSTART:20240310T100000
END:DAYLIGHT
BEGIN:STANDARD
TZOFFSETFROM:-0700
TZOFFSETTO:-0800
TZNAME:PST
DTSTART:20241103T090000
END:STANDARD
BEGIN:DAYLIGHT
TZOFFSETFROM:-0800
TZOFFSETTO:-0700
TZNAME:PDT
DTSTART:20250309T100000
END:DAYLIGHT
BEGIN:STANDARD
TZOFFSETFROM:-0700
TZOFFSETTO:-0800
TZNAME:PST
DTSTART:20251102T090000
END:STANDARD
BEGIN:DAYLIGHT
TZOFFSETFROM:-0800
TZOFFSETTO:-0700
TZNAME:PDT
DTSTART:20260308T100000
END:DAYLIGHT
BEGIN:STANDARD
TZOFFSETFROM:-0700
TZOFFSETTO:-0800
TZNAME:PST
DTSTART:20261101T090000
END:STANDARD
END:VTIMEZONE
BEGIN:VEVENT
DTSTART;TZID=America/Los_Angeles:20250528T173000
DTEND;TZID=America/Los_Angeles:20250528T193000
DTSTAMP:20260421T053633
CREATED:20250509T234409Z
LAST-MODIFIED:20250529T194923Z
UID:1922-1748453400-1748460600@goisn.org
SUMMARY:SPARC Monthly Meeting (Monmouth and Virtual)
DESCRIPTION:SPARC is a self-advocacy group\, with a branch in Monmouth. Everyone is welcome to join! This group meets monthly to hold a potluck and meeting. Each meeting has a different topic\, this month will be around gardening! \nPotluck: 5:30pm – 6:30pm\nMeeting: 6:30pm – 7:30pm \nYou can join in person or virtually.\nIn person: PCL Administrative Office\nVirtually via this link! \n 
URL:https://goisn.org/event/sparc-monthly-meeting-monmouth-and-virtual/
LOCATION:PCL Administrative Office\, 480 Main St. East\, Monmouth\, OR\, 97361\, United States
CATEGORIES:Polk,Self Advocacy,Virtual
END:VEVENT
END:VCALENDAR