BEGIN:VCALENDAR
VERSION:2.0
PRODID:-//Integrated Services Network - ECPv6.15.20//NONSGML v1.0//EN
CALSCALE:GREGORIAN
METHOD:PUBLISH
X-WR-CALNAME:Integrated Services Network
X-ORIGINAL-URL:https://goisn.org
X-WR-CALDESC:Events for Integrated Services Network
REFRESH-INTERVAL;VALUE=DURATION:PT1H
X-Robots-Tag:noindex
X-PUBLISHED-TTL:PT1H
BEGIN:VTIMEZONE
TZID:America/Los_Angeles
BEGIN:DAYLIGHT
TZOFFSETFROM:-0800
TZOFFSETTO:-0700
TZNAME:PDT
DTSTART:20240310T100000
END:DAYLIGHT
BEGIN:STANDARD
TZOFFSETFROM:-0700
TZOFFSETTO:-0800
TZNAME:PST
DTSTART:20241103T090000
END:STANDARD
BEGIN:DAYLIGHT
TZOFFSETFROM:-0800
TZOFFSETTO:-0700
TZNAME:PDT
DTSTART:20250309T100000
END:DAYLIGHT
BEGIN:STANDARD
TZOFFSETFROM:-0700
TZOFFSETTO:-0800
TZNAME:PST
DTSTART:20251102T090000
END:STANDARD
BEGIN:DAYLIGHT
TZOFFSETFROM:-0800
TZOFFSETTO:-0700
TZNAME:PDT
DTSTART:20260308T100000
END:DAYLIGHT
BEGIN:STANDARD
TZOFFSETFROM:-0700
TZOFFSETTO:-0800
TZNAME:PST
DTSTART:20261101T090000
END:STANDARD
END:VTIMEZONE
BEGIN:VEVENT
DTSTART;TZID=America/Los_Angeles:20250318T140000
DTEND;TZID=America/Los_Angeles:20250318T180000
DTSTAMP:20260421T034635
CREATED:20241219T175043Z
LAST-MODIFIED:20250509T225839Z
UID:1262-1742306400-1742320800@goisn.org
SUMMARY:Marion County Support and Services Fair
DESCRIPTION:Come to Columbia Hall\, located in the Oregon State Fairgrounds\, for a resource fair. There will be information from a variety of community partners\, a concession stand if you’d like to purchase food\, and a raffle! Spanish and ASL interpretation will be available. This event is free and open to everyone. Check out the flyer here!
URL:https://goisn.org/event/marion-county-support-and-services-fair/
LOCATION:Oregon State Fairgrounds Columbia Hall\, 2330 17th St. NE\, Salem\, OR\, 97301\, United States
CATEGORIES:Marion,Resource Fair
END:VEVENT
END:VCALENDAR