BEGIN:VCALENDAR
VERSION:2.0
PRODID:-//Integrated Services Network - ECPv6.15.20//NONSGML v1.0//EN
CALSCALE:GREGORIAN
METHOD:PUBLISH
X-WR-CALNAME:Integrated Services Network
X-ORIGINAL-URL:https://goisn.org
X-WR-CALDESC:Events for Integrated Services Network
REFRESH-INTERVAL;VALUE=DURATION:PT1H
X-Robots-Tag:noindex
X-PUBLISHED-TTL:PT1H
BEGIN:VTIMEZONE
TZID:America/Los_Angeles
BEGIN:DAYLIGHT
TZOFFSETFROM:-0800
TZOFFSETTO:-0700
TZNAME:PDT
DTSTART:20240310T100000
END:DAYLIGHT
BEGIN:STANDARD
TZOFFSETFROM:-0700
TZOFFSETTO:-0800
TZNAME:PST
DTSTART:20241103T090000
END:STANDARD
BEGIN:DAYLIGHT
TZOFFSETFROM:-0800
TZOFFSETTO:-0700
TZNAME:PDT
DTSTART:20250309T100000
END:DAYLIGHT
BEGIN:STANDARD
TZOFFSETFROM:-0700
TZOFFSETTO:-0800
TZNAME:PST
DTSTART:20251102T090000
END:STANDARD
BEGIN:DAYLIGHT
TZOFFSETFROM:-0800
TZOFFSETTO:-0700
TZNAME:PDT
DTSTART:20260308T100000
END:DAYLIGHT
BEGIN:STANDARD
TZOFFSETFROM:-0700
TZOFFSETTO:-0800
TZNAME:PST
DTSTART:20261101T090000
END:STANDARD
END:VTIMEZONE
BEGIN:VEVENT
DTSTART;TZID=America/Los_Angeles:20250419T090000
DTEND;TZID=America/Los_Angeles:20250419T140000
DTSTAMP:20260421T032243
CREATED:20250321T161155Z
LAST-MODIFIED:20250509T225743Z
UID:1678-1745053200-1745071200@goisn.org
SUMMARY:Resource Fair for People with IDD (Salem)
DESCRIPTION:Resource Fair for People with IDD \nA family friendly event with community resources for those living with intellectual and/or developmental disabilities (IDD). Masks will be available. There will be Spanish and ASL interpretation available. There will be a quiet sensory room for those who need a break. \nThe event will include: \n\nCommunity resources and services\nFree lunch options\nKid-friendly activities and free children’s books\n\nFor more information contact: information@fhco.org
URL:https://goisn.org/event/resource-fair-for-people-with-idd-salem/
LOCATION:Salem Convention Center\, 200 Commercial St. SE\, Salem\, OR\, 97301\, United States
CATEGORIES:Marion,Resource Fair
END:VEVENT
END:VCALENDAR