BEGIN:VCALENDAR
VERSION:2.0
PRODID:-//Integrated Services Network - ECPv6.15.20//NONSGML v1.0//EN
CALSCALE:GREGORIAN
METHOD:PUBLISH
X-ORIGINAL-URL:https://goisn.org
X-WR-CALDESC:Events for Integrated Services Network
REFRESH-INTERVAL;VALUE=DURATION:PT1H
X-Robots-Tag:noindex
X-PUBLISHED-TTL:PT1H
BEGIN:VTIMEZONE
TZID:America/Los_Angeles
BEGIN:DAYLIGHT
TZOFFSETFROM:-0800
TZOFFSETTO:-0700
TZNAME:PDT
DTSTART:20240310T100000
END:DAYLIGHT
BEGIN:STANDARD
TZOFFSETFROM:-0700
TZOFFSETTO:-0800
TZNAME:PST
DTSTART:20241103T090000
END:STANDARD
BEGIN:DAYLIGHT
TZOFFSETFROM:-0800
TZOFFSETTO:-0700
TZNAME:PDT
DTSTART:20250309T100000
END:DAYLIGHT
BEGIN:STANDARD
TZOFFSETFROM:-0700
TZOFFSETTO:-0800
TZNAME:PST
DTSTART:20251102T090000
END:STANDARD
BEGIN:DAYLIGHT
TZOFFSETFROM:-0800
TZOFFSETTO:-0700
TZNAME:PDT
DTSTART:20260308T100000
END:DAYLIGHT
BEGIN:STANDARD
TZOFFSETFROM:-0700
TZOFFSETTO:-0800
TZNAME:PST
DTSTART:20261101T090000
END:STANDARD
END:VTIMEZONE
BEGIN:VEVENT
DTSTART;TZID=America/Los_Angeles:20250313T130000
DTEND;TZID=America/Los_Angeles:20250313T150000
DTSTAMP:20260421T032412
CREATED:20250110T164252Z
LAST-MODIFIED:20250509T225910Z
UID:1311-1741870800-1741878000@goisn.org
SUMMARY:Friendship Connections ShamRock N' Bowl (Corvallis)
DESCRIPTION:Join us at Highland Bowl in Corvallis for a St. Patrick’s Day themed bowling and pizza party! Reach out to your personal agent for more information and to RSVP\, as spots are limited! This event is scheduled for Thursday\, March 13th.
URL:https://goisn.org/event/friendship-connections-shamrock-n-bowl/
LOCATION:Highland Bowling Alley\, 2123 NW 9th Ave.\, Corvallis\, OR\, 97330
CATEGORIES:Benton,ISN Sponsored Event
END:VEVENT
BEGIN:VEVENT
DTSTART;TZID=America/Los_Angeles:20250317T130000
DTEND;TZID=America/Los_Angeles:20250317T150000
DTSTAMP:20260421T032412
CREATED:20250210T155534Z
LAST-MODIFIED:20250509T225856Z
UID:1452-1742216400-1742223600@goisn.org
SUMMARY:Shamrock Bingo
DESCRIPTION:Seymour Center 3745 Portland Rd. NE STE 130\, Salem\, OR\, United States\n\nSnacks for everyone\, prizes for Bingo winners!\nOpen to individuals served by ISN. No direct support provided.
URL:https://goisn.org/event/shamrock-bingo/
LOCATION:OR
CATEGORIES:Community Partner,ISN Sponsored Event,Lincoln
END:VEVENT
BEGIN:VEVENT
DTSTART;TZID=America/Los_Angeles:20250327T120000
DTEND;TZID=America/Los_Angeles:20250327T140000
DTSTAMP:20260421T032412
CREATED:20250227T215138Z
LAST-MODIFIED:20250509T225833Z
UID:1530-1743076800-1743084000@goisn.org
SUMMARY:Yamhill County IDD Listening Session
DESCRIPTION:ISN would like to learn more about your experience with intellectual and developmental disability services\, any gaps in services\, and how your needs are or are not being met. Please join us for a listening session so we can hear from you! There will be lunch and prizes! \nPlease RSVP by March 12th to help us plan for food and accommodate any language interpretation services needed. RSVP by scanning the QR code on the flyer here\, visiting the online registration form here or by contacting Michaela at 971-304-5584 or mpoling@goisn.org.
URL:https://goisn.org/event/yamhill-county-idd-listening-session/
LOCATION:McMinnville Library – Carnegie Room\, 225 NW Adams St\, McMinnville\, OR\, 97128\, United States
CATEGORIES:ISN Sponsored Event,Yamhill
END:VEVENT
END:VCALENDAR