BEGIN:VCALENDAR
VERSION:2.0
PRODID:-//Integrated Services Network - ECPv6.15.20//NONSGML v1.0//EN
CALSCALE:GREGORIAN
METHOD:PUBLISH
X-WR-CALNAME:Integrated Services Network
X-ORIGINAL-URL:https://goisn.org
X-WR-CALDESC:Events for Integrated Services Network
REFRESH-INTERVAL;VALUE=DURATION:PT1H
X-Robots-Tag:noindex
X-PUBLISHED-TTL:PT1H
BEGIN:VTIMEZONE
TZID:America/Los_Angeles
BEGIN:DAYLIGHT
TZOFFSETFROM:-0800
TZOFFSETTO:-0700
TZNAME:PDT
DTSTART:20240310T100000
END:DAYLIGHT
BEGIN:STANDARD
TZOFFSETFROM:-0700
TZOFFSETTO:-0800
TZNAME:PST
DTSTART:20241103T090000
END:STANDARD
BEGIN:DAYLIGHT
TZOFFSETFROM:-0800
TZOFFSETTO:-0700
TZNAME:PDT
DTSTART:20250309T100000
END:DAYLIGHT
BEGIN:STANDARD
TZOFFSETFROM:-0700
TZOFFSETTO:-0800
TZNAME:PST
DTSTART:20251102T090000
END:STANDARD
BEGIN:DAYLIGHT
TZOFFSETFROM:-0800
TZOFFSETTO:-0700
TZNAME:PDT
DTSTART:20260308T100000
END:DAYLIGHT
BEGIN:STANDARD
TZOFFSETFROM:-0700
TZOFFSETTO:-0800
TZNAME:PST
DTSTART:20261101T090000
END:STANDARD
END:VTIMEZONE
BEGIN:VEVENT
DTSTART;TZID=America/Los_Angeles:20250520T163000
DTEND;TZID=America/Los_Angeles:20250520T173000
DTSTAMP:20260421T051308
CREATED:20250429T234628Z
LAST-MODIFIED:20250509T225441Z
UID:1868-1747758600-1747762200@goisn.org
SUMMARY:Coastal Self-Advocacy Group Meeting (virtual)
DESCRIPTION:Join Sammy’s Place for the NEW Coastal Self-Advocacy zoom meeting! This meeting is every 3rd Tuesday from 4:40-5:30 pm\, first time visitors need to register: https://forms.gle/FqSUreWVuD1mwBst5.\nThis meeting is for individuals and families with IDD.
URL:https://goisn.org/event/coastal-self-advocacy-group-meeting-virtual/
LOCATION:Virtual
CATEGORIES:Clatsop,Lincoln,Self Advocacy,Tillamook,Virtual
END:VEVENT
END:VCALENDAR