BEGIN:VCALENDAR
VERSION:2.0
PRODID:-//Integrated Services Network - ECPv6.15.20//NONSGML v1.0//EN
CALSCALE:GREGORIAN
METHOD:PUBLISH
X-WR-CALNAME:Integrated Services Network
X-ORIGINAL-URL:https://goisn.org
X-WR-CALDESC:Events for Integrated Services Network
REFRESH-INTERVAL;VALUE=DURATION:PT1H
X-Robots-Tag:noindex
X-PUBLISHED-TTL:PT1H
BEGIN:VTIMEZONE
TZID:America/Los_Angeles
BEGIN:DAYLIGHT
TZOFFSETFROM:-0800
TZOFFSETTO:-0700
TZNAME:PDT
DTSTART:20240310T100000
END:DAYLIGHT
BEGIN:STANDARD
TZOFFSETFROM:-0700
TZOFFSETTO:-0800
TZNAME:PST
DTSTART:20241103T090000
END:STANDARD
BEGIN:DAYLIGHT
TZOFFSETFROM:-0800
TZOFFSETTO:-0700
TZNAME:PDT
DTSTART:20250309T100000
END:DAYLIGHT
BEGIN:STANDARD
TZOFFSETFROM:-0700
TZOFFSETTO:-0800
TZNAME:PST
DTSTART:20251102T090000
END:STANDARD
BEGIN:DAYLIGHT
TZOFFSETFROM:-0800
TZOFFSETTO:-0700
TZNAME:PDT
DTSTART:20260308T100000
END:DAYLIGHT
BEGIN:STANDARD
TZOFFSETFROM:-0700
TZOFFSETTO:-0800
TZNAME:PST
DTSTART:20261101T090000
END:STANDARD
END:VTIMEZONE
BEGIN:VEVENT
DTSTART;TZID=America/Los_Angeles:20250424T120000
DTEND;TZID=America/Los_Angeles:20250424T140000
DTSTAMP:20260421T065214
CREATED:20250328T153749Z
LAST-MODIFIED:20250509T225736Z
UID:1730-1745496000-1745503200@goisn.org
SUMMARY:Clatsop County IDD Listening Session
DESCRIPTION:ISN would like to learn more about your experience with intellectual and developmental disability services\, any gaps in services\, and how your needs are or are not being met. Please join us for a listening session so we can hear from you! There will be lunch and prizes! Please RSVP by to help us plan for food and accommodate any language interpretation services needed. RSVP by visiting the online registration form HERE or by contacting Michaela at 971-304-5584 or mpoling@goisn.org.
URL:https://goisn.org/event/clatsop-county-idd-listening-session/
LOCATION:Judge Guy Boyington Builidng -East Room\, 857 Commercial St.\, Astoria\, OR\, 97103\, United States
CATEGORIES:Clatsop,ISN Sponsored Event
END:VEVENT
END:VCALENDAR