BEGIN:VCALENDAR
VERSION:2.0
PRODID:-//Integrated Services Network - ECPv6.15.20//NONSGML v1.0//EN
CALSCALE:GREGORIAN
METHOD:PUBLISH
X-WR-CALNAME:Integrated Services Network
X-ORIGINAL-URL:https://goisn.org
X-WR-CALDESC:Events for Integrated Services Network
REFRESH-INTERVAL;VALUE=DURATION:PT1H
X-Robots-Tag:noindex
X-PUBLISHED-TTL:PT1H
BEGIN:VTIMEZONE
TZID:America/Los_Angeles
BEGIN:DAYLIGHT
TZOFFSETFROM:-0800
TZOFFSETTO:-0700
TZNAME:PDT
DTSTART:20240310T100000
END:DAYLIGHT
BEGIN:STANDARD
TZOFFSETFROM:-0700
TZOFFSETTO:-0800
TZNAME:PST
DTSTART:20241103T090000
END:STANDARD
BEGIN:DAYLIGHT
TZOFFSETFROM:-0800
TZOFFSETTO:-0700
TZNAME:PDT
DTSTART:20250309T100000
END:DAYLIGHT
BEGIN:STANDARD
TZOFFSETFROM:-0700
TZOFFSETTO:-0800
TZNAME:PST
DTSTART:20251102T090000
END:STANDARD
BEGIN:DAYLIGHT
TZOFFSETFROM:-0800
TZOFFSETTO:-0700
TZNAME:PDT
DTSTART:20260308T100000
END:DAYLIGHT
BEGIN:STANDARD
TZOFFSETFROM:-0700
TZOFFSETTO:-0800
TZNAME:PST
DTSTART:20261101T090000
END:STANDARD
END:VTIMEZONE
BEGIN:VEVENT
DTSTART;TZID=America/Los_Angeles:20250313T130000
DTEND;TZID=America/Los_Angeles:20250313T150000
DTSTAMP:20260421T070641
CREATED:20250110T164252Z
LAST-MODIFIED:20250509T225910Z
UID:1311-1741870800-1741878000@goisn.org
SUMMARY:Friendship Connections ShamRock N' Bowl (Corvallis)
DESCRIPTION:Join us at Highland Bowl in Corvallis for a St. Patrick’s Day themed bowling and pizza party! Reach out to your personal agent for more information and to RSVP\, as spots are limited! This event is scheduled for Thursday\, March 13th.
URL:https://goisn.org/event/friendship-connections-shamrock-n-bowl/
LOCATION:Highland Bowling Alley\, 2123 NW 9th Ave.\, Corvallis\, OR\, 97330
CATEGORIES:Benton,ISN Sponsored Event
END:VEVENT
END:VCALENDAR