BEGIN:VCALENDAR
VERSION:2.0
PRODID:-//Integrated Services Network - ECPv6.15.20//NONSGML v1.0//EN
CALSCALE:GREGORIAN
METHOD:PUBLISH
X-ORIGINAL-URL:https://goisn.org
X-WR-CALDESC:Events for Integrated Services Network
REFRESH-INTERVAL;VALUE=DURATION:PT1H
X-Robots-Tag:noindex
X-PUBLISHED-TTL:PT1H
BEGIN:VTIMEZONE
TZID:America/Los_Angeles
BEGIN:DAYLIGHT
TZOFFSETFROM:-0800
TZOFFSETTO:-0700
TZNAME:PDT
DTSTART:20240310T100000
END:DAYLIGHT
BEGIN:STANDARD
TZOFFSETFROM:-0700
TZOFFSETTO:-0800
TZNAME:PST
DTSTART:20241103T090000
END:STANDARD
BEGIN:DAYLIGHT
TZOFFSETFROM:-0800
TZOFFSETTO:-0700
TZNAME:PDT
DTSTART:20250309T100000
END:DAYLIGHT
BEGIN:STANDARD
TZOFFSETFROM:-0700
TZOFFSETTO:-0800
TZNAME:PST
DTSTART:20251102T090000
END:STANDARD
BEGIN:DAYLIGHT
TZOFFSETFROM:-0800
TZOFFSETTO:-0700
TZNAME:PDT
DTSTART:20260308T100000
END:DAYLIGHT
BEGIN:STANDARD
TZOFFSETFROM:-0700
TZOFFSETTO:-0800
TZNAME:PST
DTSTART:20261101T090000
END:STANDARD
END:VTIMEZONE
BEGIN:VEVENT
DTSTART;TZID=America/Los_Angeles:20250410T120000
DTEND;TZID=America/Los_Angeles:20250410T140000
DTSTAMP:20260421T034514
CREATED:20250321T151317Z
LAST-MODIFIED:20250509T225808Z
UID:1666-1744286400-1744293600@goisn.org
SUMMARY:Benton County IDD Listening Session
DESCRIPTION:ISN would like to learn more about your experience with intellectual and developmental disability services\, any gaps in services\, and how your needs are or are not being met. Please join us for a listening session so we can hear from you! There will be lunch and prizes! Please RSVP by to help us plan for food and accommodate any language interpretation services needed. RSVP by scanning the QR code on the flyer HERE\, visiting the online registration form HERE or by contacting Michaela at 971-304-5584 or mpoling@goisn.org.
URL:https://goisn.org/event/benton-county-idd-listening-session/
LOCATION:Corvallis Library – Main Meeting Room\, 645 NW Monroe Ave\, Corvallis\, OR\, United States
CATEGORIES:Benton,ISN Sponsored Event
END:VEVENT
END:VCALENDAR